BEGIN:VCALENDAR
VERSION:2.0
PRODID:-//Trafalgar Presbyterian Church - ECPv6.15.20//NONSGML v1.0//EN
CALSCALE:GREGORIAN
METHOD:PUBLISH
X-WR-CALNAME:Trafalgar Presbyterian Church
X-ORIGINAL-URL:https://www.trafalgarpresbyterianchurch.co.za
X-WR-CALDESC:Events for Trafalgar Presbyterian Church
REFRESH-INTERVAL;VALUE=DURATION:PT1H
X-Robots-Tag:noindex
X-PUBLISHED-TTL:PT1H
BEGIN:VTIMEZONE
TZID:Africa/Johannesburg
BEGIN:STANDARD
TZOFFSETFROM:+0200
TZOFFSETTO:+0200
TZNAME:SAST
DTSTART:20140101T000000
END:STANDARD
END:VTIMEZONE
BEGIN:VEVENT
DTSTART;VALUE=DATE:20170331
DTEND;VALUE=DATE:20170401
DTSTAMP:20260422T001309
CREATED:20170206T191715Z
LAST-MODIFIED:20170209T132457Z
UID:105-1490918400-1491004799@www.trafalgarpresbyterianchurch.co.za
SUMMARY:Golf Day for Hospice at Southbroom Golf Club
DESCRIPTION:Friday 31 March – Golf Day for Hospice at Southbroom Golf Club \nOur annual golf day – we are looking for sponsors\, as well as players\, as we would like to supply much needed wheelchairs to Hospice. \n\nThe day takes place at Southbroom Golf Club.\nMore details from Tony Westoby on 082 570 9526\n\n 
URL:https://www.trafalgarpresbyterianchurch.co.za/event/golf-day-for-hospice-at-southbroom-golf-club/
CATEGORIES:Events
ATTACH;FMTTYPE=image/jpeg:https://www.trafalgarpresbyterianchurch.co.za/wp-content/uploads/2017/02/events.jpg
END:VEVENT
BEGIN:VEVENT
DTSTART;TZID=Africa/Johannesburg:20170303T093000
DTEND;TZID=Africa/Johannesburg:20170303T110000
DTSTAMP:20260422T001309
CREATED:20170206T191615Z
LAST-MODIFIED:20170209T132450Z
UID:103-1488533400-1488538800@www.trafalgarpresbyterianchurch.co.za
SUMMARY:Women's World Day of Prayer
DESCRIPTION:Friday 3 March – Women’s World Day of Prayer @ 9.30 in the church \nWomen’s World Day of Prayer is an international day celebrated by women the world over. Each year a different country is the “host” country and they prepare the order of service. This year The Philippines is the host nation. \n\nAll ladies are welcome to attend.\nTea is served afterwards.\nThe time is 9.30 am in the church.
URL:https://www.trafalgarpresbyterianchurch.co.za/event/womens-world-day-of-prayer/
CATEGORIES:Events
ATTACH;FMTTYPE=image/jpeg:https://www.trafalgarpresbyterianchurch.co.za/wp-content/uploads/2017/02/events.jpg
END:VEVENT
BEGIN:VEVENT
DTSTART;TZID=Africa/Johannesburg:20170301T183000
DTEND;TZID=Africa/Johannesburg:20170301T200000
DTSTAMP:20260422T001309
CREATED:20170206T191449Z
LAST-MODIFIED:20170209T132341Z
UID:101-1488393000-1488398400@www.trafalgarpresbyterianchurch.co.za
SUMMARY:Ash Wednesday Service
DESCRIPTION:Wednesday 1 March – Ash Wednesday service at 6.30 pm \nAsh Wednesday service in the church at 6.30 in the evening. Those attending are marked with the sign of the cross as they bring their sins to the foot of the cross.
URL:https://www.trafalgarpresbyterianchurch.co.za/event/ash-wednesday-service/
CATEGORIES:Events
ATTACH;FMTTYPE=image/jpeg:https://www.trafalgarpresbyterianchurch.co.za/wp-content/uploads/2017/02/events.jpg
END:VEVENT
BEGIN:VEVENT
DTSTART;TZID=Africa/Johannesburg:20170211T080000
DTEND;TZID=Africa/Johannesburg:20170211T090000
DTSTAMP:20260422T001309
CREATED:20170206T191250Z
LAST-MODIFIED:20170209T132321Z
UID:98-1486800000-1486803600@www.trafalgarpresbyterianchurch.co.za
SUMMARY:Men's Get Together
DESCRIPTION:Saturday 11 February – men’s get together at the church at 8.00 \nMen’s get together is a breakfast and David will speak on “lightning protection”  Anyone is invited to attend. Contact David 082 859 8133
URL:https://www.trafalgarpresbyterianchurch.co.za/event/mens-get-together/
CATEGORIES:Events
ATTACH;FMTTYPE=image/jpeg:https://www.trafalgarpresbyterianchurch.co.za/wp-content/uploads/2017/02/events.jpg
END:VEVENT
BEGIN:VEVENT
DTSTART;TZID=Africa/Johannesburg:20170129T103000
DTEND;TZID=Africa/Johannesburg:20170129T140000
DTSTAMP:20260422T001309
CREATED:20161219T074352Z
LAST-MODIFIED:20161219T074352Z
UID:94-1485685800-1485698400@www.trafalgarpresbyterianchurch.co.za
SUMMARY:Bring and Braai after Church
DESCRIPTION:There will be a Congregation bring & braai after church on 29 January 2017.
URL:https://www.trafalgarpresbyterianchurch.co.za/event/bring-and-braai-after-church/
LOCATION:Church\, Mission Station - Imbizana Mission\, South Africa
CATEGORIES:Events
ATTACH;FMTTYPE=image/jpeg:https://www.trafalgarpresbyterianchurch.co.za/wp-content/uploads/2016/12/bring-and-braai.jpg
END:VEVENT
BEGIN:VEVENT
DTSTART;TZID=Africa/Johannesburg:20170101T090000
DTEND;TZID=Africa/Johannesburg:20170101T100000
DTSTAMP:20260422T001309
CREATED:20161219T072750Z
LAST-MODIFIED:20161219T072750Z
UID:88-1483261200-1483264800@www.trafalgarpresbyterianchurch.co.za
SUMMARY:New Year's Day Service
DESCRIPTION:Our New Year’s Day Service will be held at 9am as usual.  All welcome!
URL:https://www.trafalgarpresbyterianchurch.co.za/event/new-years-day-service/
LOCATION:Church\, Mission Station - Imbizana Mission\, South Africa
CATEGORIES:Events
ATTACH;FMTTYPE=image/jpeg:https://www.trafalgarpresbyterianchurch.co.za/wp-content/uploads/2016/12/new-years-day-service.jpg
END:VEVENT
BEGIN:VEVENT
DTSTART;TZID=Africa/Johannesburg:20161225T090000
DTEND;TZID=Africa/Johannesburg:20161225T100000
DTSTAMP:20260422T001309
CREATED:20161219T070806Z
LAST-MODIFIED:20161219T070806Z
UID:85-1482656400-1482660000@www.trafalgarpresbyterianchurch.co.za
SUMMARY:Christmas Day Service
DESCRIPTION:Our Christmas Day Service will be held at 9am as usual.  All welcome!
URL:https://www.trafalgarpresbyterianchurch.co.za/event/christmas-day-service/
LOCATION:Church\, Mission Station - Imbizana Mission\, South Africa
CATEGORIES:Events
ATTACH;FMTTYPE=image/jpeg:https://www.trafalgarpresbyterianchurch.co.za/wp-content/uploads/2016/12/Christmas-banner.jpg
END:VEVENT
BEGIN:VEVENT
DTSTART;TZID=Africa/Johannesburg:20161220T183000
DTEND;TZID=Africa/Johannesburg:20161220T200000
DTSTAMP:20260422T001309
CREATED:20161214T123832Z
LAST-MODIFIED:20161214T124003Z
UID:70-1482258600-1482264000@www.trafalgarpresbyterianchurch.co.za
SUMMARY:Christmas Carols
DESCRIPTION:Come and join us for an evening of Christmas Carols
URL:https://www.trafalgarpresbyterianchurch.co.za/event/christmas-carols/
LOCATION:Church\, Mission Station - Imbizana Mission\, South Africa
CATEGORIES:Activities,Events
ATTACH;FMTTYPE=image/jpeg:https://www.trafalgarpresbyterianchurch.co.za/wp-content/uploads/2016/12/Christmas-star.jpg
END:VEVENT
BEGIN:VEVENT
DTSTART;TZID=Africa/Johannesburg:20150712T090000
DTEND;TZID=Africa/Johannesburg:20150712T100000
DTSTAMP:20260422T001309
CREATED:20150705T180840Z
LAST-MODIFIED:20150705T180840Z
UID:31-1436691600-1436695200@www.trafalgarpresbyterianchurch.co.za
SUMMARY:Church
DESCRIPTION:Church begins at 9am each Sunday and Communion takes place every 3rd Sunday of the month.
URL:https://www.trafalgarpresbyterianchurch.co.za/event/church/
CATEGORIES:Events
ATTACH;FMTTYPE=image/jpeg:https://www.trafalgarpresbyterianchurch.co.za/wp-content/uploads/2015/07/church.jpg
END:VEVENT
END:VCALENDAR