BEGIN:VCALENDAR
VERSION:2.0
PRODID:-//Trafalgar Presbyterian Church - ECPv6.15.20//NONSGML v1.0//EN
CALSCALE:GREGORIAN
METHOD:PUBLISH
X-WR-CALNAME:Trafalgar Presbyterian Church
X-ORIGINAL-URL:https://www.trafalgarpresbyterianchurch.co.za
X-WR-CALDESC:Events for Trafalgar Presbyterian Church
REFRESH-INTERVAL;VALUE=DURATION:PT1H
X-Robots-Tag:noindex
X-PUBLISHED-TTL:PT1H
BEGIN:VTIMEZONE
TZID:Africa/Johannesburg
BEGIN:STANDARD
TZOFFSETFROM:+0200
TZOFFSETTO:+0200
TZNAME:SAST
DTSTART:20160101T000000
END:STANDARD
END:VTIMEZONE
BEGIN:VEVENT
DTSTART;TZID=Africa/Johannesburg:20180920T140000
DTEND;TZID=Africa/Johannesburg:20180920T170000
DTSTAMP:20260421T183324
CREATED:20180914T093000Z
LAST-MODIFIED:20180914T093000Z
UID:199-1537452000-1537462800@www.trafalgarpresbyterianchurch.co.za
SUMMARY:CMI (Creation Ministries International)  Talk
DESCRIPTION:CMI (Creation Ministries International) – an organisation from Cape Town that travels all over the country\, will be giving a talk on “The Gospel is in Genesis” – AT 2pm for 2.30 – tea will be served before the talk. We encourage all who can\, and would\, like to attend\, to come along to the Mission church on THURSDAY 20th at 2pm
URL:https://www.trafalgarpresbyterianchurch.co.za/event/cmi-creation-ministries-international-talk/
LOCATION:Church\, Mission Station - Imbizana Mission\, South Africa
CATEGORIES:Events
END:VEVENT
BEGIN:VEVENT
DTSTART;TZID=Africa/Johannesburg:20180918T090000
DTEND;TZID=Africa/Johannesburg:20180918T123000
DTSTAMP:20260421T183324
CREATED:20180914T092902Z
LAST-MODIFIED:20180914T095749Z
UID:197-1537261200-1537273800@www.trafalgarpresbyterianchurch.co.za
SUMMARY:Ladies meeting in Marina Beach
DESCRIPTION:9.30 am
URL:https://www.trafalgarpresbyterianchurch.co.za/event/ladies-meeting-in-marina-beach/
CATEGORIES:Events
END:VEVENT
BEGIN:VEVENT
DTSTART;TZID=Africa/Johannesburg:20180916T090000
DTEND;TZID=Africa/Johannesburg:20180916T120000
DTSTAMP:20260421T183324
CREATED:20180914T090035Z
LAST-MODIFIED:20180914T095817Z
UID:182-1537088400-1537099200@www.trafalgarpresbyterianchurch.co.za
SUMMARY:6th Birthday of Worshiping in the Mission Church
DESCRIPTION:Please join us.  9am
URL:https://www.trafalgarpresbyterianchurch.co.za/event/6th-birthday-of-worshiping-in-the-mission-church/
LOCATION:Church\, Mission Station - Imbizana Mission\, South Africa
CATEGORIES:Events
END:VEVENT
BEGIN:VEVENT
DTSTART;TZID=Africa/Johannesburg:20180401T090000
DTEND;TZID=Africa/Johannesburg:20180401T090000
DTSTAMP:20260421T183324
CREATED:20180125T080833Z
LAST-MODIFIED:20180125T083356Z
UID:172-1522573200-1522573200@www.trafalgarpresbyterianchurch.co.za
SUMMARY:Easter service
DESCRIPTION:Come and fellowship with us on this special Sunday as we rejoice over the sacrifice our Saviour made for us. Please bring a white flower with you.
URL:https://www.trafalgarpresbyterianchurch.co.za/event/easter-service-2/
CATEGORIES:Activities,Events
END:VEVENT
BEGIN:VEVENT
DTSTART;TZID=Africa/Johannesburg:20180330T090000
DTEND;TZID=Africa/Johannesburg:20180330T090000
DTSTAMP:20260421T183324
CREATED:20180125T075928Z
LAST-MODIFIED:20180125T083447Z
UID:170-1522400400-1522400400@www.trafalgarpresbyterianchurch.co.za
SUMMARY:Good Friday service
DESCRIPTION:Come and fellowship with us on as we celebrate our Saviour. Please Bring a red flower with you.
URL:https://www.trafalgarpresbyterianchurch.co.za/event/good-friday-service-2/
CATEGORIES:Events
END:VEVENT
BEGIN:VEVENT
DTSTART;TZID=Africa/Johannesburg:20180329T183000
DTEND;TZID=Africa/Johannesburg:20180329T183000
DTSTAMP:20260421T183324
CREATED:20180125T083045Z
LAST-MODIFIED:20180125T083140Z
UID:176-1522348200-1522348200@www.trafalgarpresbyterianchurch.co.za
SUMMARY:Tennebrae service
DESCRIPTION:Come and experience the passion story with us in our Tennebrae service taking place at church.
URL:https://www.trafalgarpresbyterianchurch.co.za/event/tennebrae-service-2/
CATEGORIES:Activities,Events
END:VEVENT
BEGIN:VEVENT
DTSTART;TZID=Africa/Johannesburg:20180323T183000
DTEND;TZID=Africa/Johannesburg:20180323T183000
DTSTAMP:20260421T183324
CREATED:20180125T075544Z
LAST-MODIFIED:20180125T075600Z
UID:168-1521829800-1521829800@www.trafalgarpresbyterianchurch.co.za
SUMMARY:Passover dinner
DESCRIPTION:Join us on Passover Dinner as we remember our king and the sacrifice he made or us.
URL:https://www.trafalgarpresbyterianchurch.co.za/event/passover-dinner-2/
CATEGORIES:Activities,Events
END:VEVENT
BEGIN:VEVENT
DTSTART;TZID=Africa/Johannesburg:20180320T093000
DTEND;TZID=Africa/Johannesburg:20180320T103000
DTSTAMP:20260421T183324
CREATED:20180125T074910Z
LAST-MODIFIED:20180125T135824Z
UID:163-1521538200-1521541800@www.trafalgarpresbyterianchurch.co.za
SUMMARY:Ladies group meeting
DESCRIPTION:Join us in our group meeting just for ladies as we build each other and grow together.
URL:https://www.trafalgarpresbyterianchurch.co.za/event/ladies-group-meeting-4/
CATEGORIES:Activities,Events
END:VEVENT
BEGIN:VEVENT
DTSTART;TZID=Africa/Johannesburg:20180318T093000
DTEND;TZID=Africa/Johannesburg:20180318T113000
DTSTAMP:20260421T183324
CREATED:20180125T075158Z
LAST-MODIFIED:20180125T135343Z
UID:165-1521365400-1521372600@www.trafalgarpresbyterianchurch.co.za
SUMMARY:Communion
DESCRIPTION:Partake in holy communion with us on Sunday the 18th.
URL:https://www.trafalgarpresbyterianchurch.co.za/event/communion-2/
CATEGORIES:Activities
END:VEVENT
BEGIN:VEVENT
DTSTART;TZID=Africa/Johannesburg:20180306T093000
DTEND;TZID=Africa/Johannesburg:20180306T103000
DTSTAMP:20260421T183324
CREATED:20180125T074734Z
LAST-MODIFIED:20180125T135723Z
UID:161-1520328600-1520332200@www.trafalgarpresbyterianchurch.co.za
SUMMARY:Ladies group meeting
DESCRIPTION:Join us in our group meeting just for ladies as we build each other and grow together.
URL:https://www.trafalgarpresbyterianchurch.co.za/event/ladies-group-meeting-3/
CATEGORIES:Activities
END:VEVENT
BEGIN:VEVENT
DTSTART;TZID=Africa/Johannesburg:20180302T000000
DTEND;TZID=Africa/Johannesburg:20180302T000000
DTSTAMP:20260421T183324
CREATED:20180125T074421Z
LAST-MODIFIED:20180125T074421Z
UID:159-1519948800-1519948800@www.trafalgarpresbyterianchurch.co.za
SUMMARY:Women's World Day of Prayer
DESCRIPTION:Lets pray together as women with a common cause on the 2nd of March. This year’s prayer takes place in Port Edward at AGS
URL:https://www.trafalgarpresbyterianchurch.co.za/event/womens-world-day-of-prayer-2/
CATEGORIES:Events
END:VEVENT
BEGIN:VEVENT
DTSTART;TZID=Africa/Johannesburg:20180222T150000
DTEND;TZID=Africa/Johannesburg:20180222T160000
DTSTAMP:20260421T183324
CREATED:20180125T073629Z
LAST-MODIFIED:20180125T135429Z
UID:157-1519311600-1519315200@www.trafalgarpresbyterianchurch.co.za
SUMMARY:Bible Study
DESCRIPTION:Join us for Bible study as we delve deep into the Word. Bible study takes place on the last Thursday of every month.
URL:https://www.trafalgarpresbyterianchurch.co.za/event/bible-study-2/
CATEGORIES:Activities,Events
END:VEVENT
BEGIN:VEVENT
DTSTART;TZID=Africa/Johannesburg:20180220T093000
DTEND;TZID=Africa/Johannesburg:20180220T103000
DTSTAMP:20260421T183324
CREATED:20180125T072632Z
LAST-MODIFIED:20180125T135246Z
UID:153-1519119000-1519122600@www.trafalgarpresbyterianchurch.co.za
SUMMARY:Ladies group meeting
DESCRIPTION:Join us in our group meeting just for ladies as we build each other and grow together.
URL:https://www.trafalgarpresbyterianchurch.co.za/event/ladies-group-meeting-2/
CATEGORIES:Activities,Events
END:VEVENT
BEGIN:VEVENT
DTSTART;TZID=Africa/Johannesburg:20180218T090000
DTEND;TZID=Africa/Johannesburg:20180218T110000
DTSTAMP:20260421T183324
CREATED:20180125T073042Z
LAST-MODIFIED:20180125T135327Z
UID:155-1518944400-1518951600@www.trafalgarpresbyterianchurch.co.za
SUMMARY:Communion
DESCRIPTION:Partake in holy communion with us on Sunday the 18th.
URL:https://www.trafalgarpresbyterianchurch.co.za/event/communion/
CATEGORIES:Activities,Events
END:VEVENT
BEGIN:VEVENT
DTSTART;TZID=Africa/Johannesburg:20180206T093000
DTEND;TZID=Africa/Johannesburg:20180206T103000
DTSTAMP:20260421T183324
CREATED:20180125T072228Z
LAST-MODIFIED:20180125T135157Z
UID:151-1517909400-1517913000@www.trafalgarpresbyterianchurch.co.za
SUMMARY:Ladies group meeting
DESCRIPTION:Join us in our group meeting just for ladies as we build each other and grow together.
URL:https://www.trafalgarpresbyterianchurch.co.za/event/ladies-group-meeting/
CATEGORIES:Activities,Events
END:VEVENT
BEGIN:VEVENT
DTSTART;TZID=Africa/Johannesburg:20180204T103000
DTEND;TZID=Africa/Johannesburg:20180204T150000
DTSTAMP:20260421T183324
CREATED:20180125T071407Z
LAST-MODIFIED:20180125T135053Z
UID:149-1517740200-1517756400@www.trafalgarpresbyterianchurch.co.za
SUMMARY:Bring and braai
DESCRIPTION:Share a delicious meal with us after the church service. Bring your contribution so we can enjoy a great feast together. This takes place on Sunday\, the 4th of February\, See you there!
URL:https://www.trafalgarpresbyterianchurch.co.za/event/bring-and-braai/
CATEGORIES:Activities,Events
END:VEVENT
BEGIN:VEVENT
DTSTART;TZID=Africa/Johannesburg:20180125T150000
DTEND;TZID=Africa/Johannesburg:20180125T150000
DTSTAMP:20260421T183324
CREATED:20180125T070227Z
LAST-MODIFIED:20180125T072422Z
UID:147-1516892400-1516892400@www.trafalgarpresbyterianchurch.co.za
SUMMARY:Bible study
DESCRIPTION:Bible study at the church on January the 25th. Everyone welcome! 15:00 tea is served and study starts at 15:30
URL:https://www.trafalgarpresbyterianchurch.co.za/event/bible-study/
CATEGORIES:Activities
END:VEVENT
BEGIN:VEVENT
DTSTART;TZID=Africa/Johannesburg:20170917T090000
DTEND;TZID=Africa/Johannesburg:20170917T113000
DTSTAMP:20260421T183324
CREATED:20170717T074123Z
LAST-MODIFIED:20170717T074123Z
UID:143-1505638800-1505647800@www.trafalgarpresbyterianchurch.co.za
SUMMARY:6th Birthday Service & Tea
DESCRIPTION:6th birthday service and tea at 9am. \nMust wear a hat to church on that day!! Prizes for the best hats.
URL:https://www.trafalgarpresbyterianchurch.co.za/event/6th-birthday-service-tea/
CATEGORIES:Events
END:VEVENT
BEGIN:VEVENT
DTSTART;TZID=Africa/Johannesburg:20170820T090000
DTEND;TZID=Africa/Johannesburg:20170820T110000
DTSTAMP:20260421T183324
CREATED:20170717T074015Z
LAST-MODIFIED:20170717T074015Z
UID:141-1503219600-1503226800@www.trafalgarpresbyterianchurch.co.za
SUMMARY:Induction & Ordination of New Elders
DESCRIPTION:Induction and ordination of new elders at Communion service.
URL:https://www.trafalgarpresbyterianchurch.co.za/event/induction-ordination-of-new-elders/
CATEGORIES:Events
END:VEVENT
BEGIN:VEVENT
DTSTART;TZID=Africa/Johannesburg:20170812T130000
DTEND;TZID=Africa/Johannesburg:20170812T170000
DTSTAMP:20260421T183324
CREATED:20170717T073811Z
LAST-MODIFIED:20170717T073811Z
UID:139-1502542800-1502557200@www.trafalgarpresbyterianchurch.co.za
SUMMARY:Afternoon Quiz with Fish & Chips
DESCRIPTION:Afternoon quiz starting at 1pm with fish and chips – R20 to cover cost.
URL:https://www.trafalgarpresbyterianchurch.co.za/event/afternoon-quiz-with-fish-chips/
CATEGORIES:Events
END:VEVENT
BEGIN:VEVENT
DTSTART;TZID=Africa/Johannesburg:20170722T083000
DTEND;TZID=Africa/Johannesburg:20170722T100000
DTSTAMP:20260421T183324
CREATED:20170717T073350Z
LAST-MODIFIED:20170717T073623Z
UID:136-1500712200-1500717600@www.trafalgarpresbyterianchurch.co.za
SUMMARY:Men's Breakfast Meeting
DESCRIPTION:Men’s breakfast meeting at Crafty Chameleon – Munster at 8.30am
URL:https://www.trafalgarpresbyterianchurch.co.za/event/mens-breakfast-meeting/
LOCATION:Crafty Chameleon\, Munster\, Munster\, South Africa
CATEGORIES:Events
END:VEVENT
BEGIN:VEVENT
DTSTART;TZID=Africa/Johannesburg:20170609T180000
DTEND;TZID=Africa/Johannesburg:20170609T210000
DTSTAMP:20260421T183324
CREATED:20170418T124221Z
LAST-MODIFIED:20170418T124221Z
UID:133-1497031200-1497042000@www.trafalgarpresbyterianchurch.co.za
SUMMARY:Beetle Drive with Curry and Rice
DESCRIPTION:Beetle drive – at the old church hall at 6 pm. \nGreat fun of drawing a beetle by throwing a dice. Each number represents a part to be drawn. Delicious curry and rice will be served at a cost of R30 per person. Own drinks to be supplied. \n 
URL:https://www.trafalgarpresbyterianchurch.co.za/event/beetle-drive-with-curry-and-rice/
LOCATION:Church\, Mission Station - Imbizana Mission\, South Africa
CATEGORIES:Events
ATTACH;FMTTYPE=image/jpeg:https://www.trafalgarpresbyterianchurch.co.za/wp-content/uploads/2017/02/events.jpg
END:VEVENT
BEGIN:VEVENT
DTSTART;VALUE=DATE:20170525
DTEND;VALUE=DATE:20170526
DTSTAMP:20260421T183324
CREATED:20170418T124007Z
LAST-MODIFIED:20170418T124007Z
UID:131-1495670400-1495756799@www.trafalgarpresbyterianchurch.co.za
SUMMARY:Ascension Day
DESCRIPTION:No service on this Thursday
URL:https://www.trafalgarpresbyterianchurch.co.za/event/ascension-day/
ATTACH;FMTTYPE=image/jpeg:https://www.trafalgarpresbyterianchurch.co.za/wp-content/uploads/2017/02/events.jpg
END:VEVENT
BEGIN:VEVENT
DTSTART;TZID=Africa/Johannesburg:20170513T120000
DTEND;TZID=Africa/Johannesburg:20170513T170000
DTSTAMP:20260421T183324
CREATED:20170418T123657Z
LAST-MODIFIED:20170418T123814Z
UID:128-1494676800-1494694800@www.trafalgarpresbyterianchurch.co.za
SUMMARY:Activity / Games Day at the Church
DESCRIPTION:Don’t miss our activity / games day at the church on Saturday 13 May! \nThe activity/games day will be at 12 noon at the church. \nActivities will include: \n\ngolf putting;\ndarts;\npatang; and others.\n\nPancakes will be available for sale. Bring and braai – fires will be provided. Bring own drinks.
URL:https://www.trafalgarpresbyterianchurch.co.za/event/activity-games-day-at-the-church/
LOCATION:Church\, Mission Station - Imbizana Mission\, South Africa
CATEGORIES:Events
ATTACH;FMTTYPE=image/jpeg:https://www.trafalgarpresbyterianchurch.co.za/wp-content/uploads/2017/02/events.jpg
END:VEVENT
BEGIN:VEVENT
DTSTART;VALUE=DATE:20170422
DTEND;VALUE=DATE:20170423
DTSTAMP:20260421T183324
CREATED:20170206T192823Z
LAST-MODIFIED:20170206T192823Z
UID:117-1492819200-1492905599@www.trafalgarpresbyterianchurch.co.za
SUMMARY:Men's get together.
DESCRIPTION:Saturday 22 April  –  Men’s get together.
URL:https://www.trafalgarpresbyterianchurch.co.za/event/mens-get-together-2/
CATEGORIES:Events
ATTACH;FMTTYPE=image/jpeg:https://www.trafalgarpresbyterianchurch.co.za/wp-content/uploads/2017/02/events.jpg
END:VEVENT
BEGIN:VEVENT
DTSTART;TZID=Africa/Johannesburg:20170416T090000
DTEND;TZID=Africa/Johannesburg:20170416T110000
DTSTAMP:20260421T183324
CREATED:20170206T192654Z
LAST-MODIFIED:20170206T192654Z
UID:115-1492333200-1492340400@www.trafalgarpresbyterianchurch.co.za
SUMMARY:Easter service
DESCRIPTION:Sunday 16 April  – Easter service @ 9.00 a
URL:https://www.trafalgarpresbyterianchurch.co.za/event/easter-service/
CATEGORIES:Events
ATTACH;FMTTYPE=image/jpeg:https://www.trafalgarpresbyterianchurch.co.za/wp-content/uploads/2017/02/events.jpg
END:VEVENT
BEGIN:VEVENT
DTSTART;TZID=Africa/Johannesburg:20170414T090000
DTEND;TZID=Africa/Johannesburg:20170414T103000
DTSTAMP:20260421T183324
CREATED:20170206T192541Z
LAST-MODIFIED:20170206T192541Z
UID:113-1492160400-1492165800@www.trafalgarpresbyterianchurch.co.za
SUMMARY:Good Friday Service
DESCRIPTION:Friday 14 April  –  Good Friday service at 9.00 am
URL:https://www.trafalgarpresbyterianchurch.co.za/event/good-friday-service/
CATEGORIES:Events
ATTACH;FMTTYPE=image/jpeg:https://www.trafalgarpresbyterianchurch.co.za/wp-content/uploads/2017/02/events.jpg
END:VEVENT
BEGIN:VEVENT
DTSTART;TZID=Africa/Johannesburg:20170413T183000
DTEND;TZID=Africa/Johannesburg:20170413T210000
DTSTAMP:20260421T183324
CREATED:20170206T192154Z
LAST-MODIFIED:20170206T192154Z
UID:111-1492108200-1492117200@www.trafalgarpresbyterianchurch.co.za
SUMMARY:Tennebrae service
DESCRIPTION:Thursday 13 April  –  Tennebrae service @ 6.30 pm
URL:https://www.trafalgarpresbyterianchurch.co.za/event/tennebrae-service/
CATEGORIES:Events
ATTACH;FMTTYPE=image/jpeg:https://www.trafalgarpresbyterianchurch.co.za/wp-content/uploads/2017/02/events.jpg
END:VEVENT
BEGIN:VEVENT
DTSTART;VALUE=DATE:20170409
DTEND;VALUE=DATE:20170410
DTSTAMP:20260421T183324
CREATED:20170206T192053Z
LAST-MODIFIED:20170206T192053Z
UID:109-1491696000-1491782399@www.trafalgarpresbyterianchurch.co.za
SUMMARY:Palm Sunday
DESCRIPTION:Sunday 9 April  –  Palm Sunday
URL:https://www.trafalgarpresbyterianchurch.co.za/event/palm-sunday/
CATEGORIES:Events
ATTACH;FMTTYPE=image/jpeg:https://www.trafalgarpresbyterianchurch.co.za/wp-content/uploads/2017/02/events.jpg
END:VEVENT
BEGIN:VEVENT
DTSTART;VALUE=DATE:20170407
DTEND;VALUE=DATE:20170408
DTSTAMP:20260421T183324
CREATED:20170206T191838Z
LAST-MODIFIED:20170206T191838Z
UID:107-1491523200-1491609599@www.trafalgarpresbyterianchurch.co.za
SUMMARY:Passover Dinner
DESCRIPTION:Friday 7 April   –   Passover Dinner
URL:https://www.trafalgarpresbyterianchurch.co.za/event/passover-dinner/
CATEGORIES:Events
ATTACH;FMTTYPE=image/jpeg:https://www.trafalgarpresbyterianchurch.co.za/wp-content/uploads/2017/02/events.jpg
END:VEVENT
END:VCALENDAR